BEGIN:VCALENDAR
VERSION:2.0
PRODID:-// - ECPv6.0.8//NONSGML v1.0//EN
CALSCALE:GREGORIAN
METHOD:PUBLISH
X-ORIGINAL-URL:https://www.jugendrat-inningen.de
X-WR-CALDESC:Veranstaltungen für 
REFRESH-INTERVAL;VALUE=DURATION:PT1H
X-Robots-Tag:noindex
X-PUBLISHED-TTL:PT1H
BEGIN:VTIMEZONE
TZID:Europe/Paris
BEGIN:DAYLIGHT
TZOFFSETFROM:+0100
TZOFFSETTO:+0200
TZNAME:CEST
DTSTART:20220327T010000
END:DAYLIGHT
BEGIN:STANDARD
TZOFFSETFROM:+0200
TZOFFSETTO:+0100
TZNAME:CET
DTSTART:20221030T010000
END:STANDARD
END:VTIMEZONE
BEGIN:VEVENT
DTSTART;VALUE=DATE:20220514
DTEND;VALUE=DATE:20220515
DTSTAMP:20260425T123643
CREATED:20220324T194741Z
LAST-MODIFIED:20220324T194836Z
UID:4736-1652486400-1652572799@www.jugendrat-inningen.de
SUMMARY:Ausflug auf dem Bauernhof
DESCRIPTION:Gemeinsam besuchen wir den Mitmachbauernhof „Beim Hibsch“ in Hollenbach. Wir helfen beim Kühe füttern\, Kälber tränken\, streicheln die Hasen und lassen die Hühner aus der Hand picken. Nach einer kleinen Kuchenpause könnt ihr euch in der Strohhüpfburg austoben und im Maisbad spielen. Natürlich möchten wir auch die Maschinen in der Halle anschauen und auf dem großen Traktor sitzen. \nAnmeldung und Infos unter: andrea.manzeneder@jugendrat-inningen.de
URL:https://www.jugendrat-inningen.de/veranstaltungen/ausflug-auf-dem-bauernhof/
CATEGORIES:Kinder/Jugendliche
ATTACH;FMTTYPE=image/jpeg:https://www.jugendrat-inningen.de/wp-content/uploads/2019/04/Kind-im-Traktor.jpg
END:VEVENT
BEGIN:VEVENT
DTSTART;TZID=Europe/Paris:20220526T080000
DTEND;TZID=Europe/Paris:20220529T170000
DTSTAMP:20260425T123643
CREATED:20220324T200446Z
LAST-MODIFIED:20220324T200446Z
UID:4743-1653552000-1653843600@www.jugendrat-inningen.de
SUMMARY:Familienhütte auf Maria Trost
DESCRIPTION:Neben Grillen am Lagerfeuer\, Nachtwanderung und Schnitzeljagd steht die Wanderung zur Sommerrodelbahn oder in den Klettergarten auf dem Programm. \nNähere Infos und Anmeldung unter: info@jugendrat-inningen.de
URL:https://www.jugendrat-inningen.de/veranstaltungen/familienhuette-auf-maria-trost/
ATTACH;FMTTYPE=image/jpeg:https://www.jugendrat-inningen.de/wp-content/uploads/2022/03/Maria_Trost_Nesselwang.jpg
END:VEVENT
END:VCALENDAR