BEGIN:VCALENDAR
VERSION:2.0
PRODID:-// - ECPv6.0.8//NONSGML v1.0//EN
CALSCALE:GREGORIAN
METHOD:PUBLISH
X-ORIGINAL-URL:https://www.jugendrat-inningen.de
X-WR-CALDESC:Veranstaltungen für 
REFRESH-INTERVAL;VALUE=DURATION:PT1H
X-Robots-Tag:noindex
X-PUBLISHED-TTL:PT1H
BEGIN:VTIMEZONE
TZID:Europe/Paris
BEGIN:DAYLIGHT
TZOFFSETFROM:+0100
TZOFFSETTO:+0200
TZNAME:CEST
DTSTART:20220327T010000
END:DAYLIGHT
BEGIN:STANDARD
TZOFFSETFROM:+0200
TZOFFSETTO:+0100
TZNAME:CET
DTSTART:20221030T010000
END:STANDARD
BEGIN:DAYLIGHT
TZOFFSETFROM:+0100
TZOFFSETTO:+0200
TZNAME:CEST
DTSTART:20230326T010000
END:DAYLIGHT
BEGIN:STANDARD
TZOFFSETFROM:+0200
TZOFFSETTO:+0100
TZNAME:CET
DTSTART:20231029T010000
END:STANDARD
BEGIN:DAYLIGHT
TZOFFSETFROM:+0100
TZOFFSETTO:+0200
TZNAME:CEST
DTSTART:20240331T010000
END:DAYLIGHT
BEGIN:STANDARD
TZOFFSETFROM:+0200
TZOFFSETTO:+0100
TZNAME:CET
DTSTART:20241027T010000
END:STANDARD
BEGIN:DAYLIGHT
TZOFFSETFROM:+0100
TZOFFSETTO:+0200
TZNAME:CEST
DTSTART:20250330T010000
END:DAYLIGHT
BEGIN:STANDARD
TZOFFSETFROM:+0200
TZOFFSETTO:+0100
TZNAME:CET
DTSTART:20251026T010000
END:STANDARD
END:VTIMEZONE
BEGIN:VEVENT
DTSTART;VALUE=DATE:20251031
DTEND;VALUE=DATE:20251103
DTSTAMP:20260421T115215
CREATED:20250901T105714Z
LAST-MODIFIED:20250901T105714Z
UID:5553-1761868800-1762127999@www.jugendrat-inningen.de
SUMMARY:Halloweenhütte
DESCRIPTION:Hinweis: Für diesen Inhalt ist JavaScript erforderlich.\nOh je. Leider sind alle Plätze bereits vergeben. Falls ein Platz noch frei wird und Sie auf die Warteliste geschrieben werden wollen\, schreiben Sie bitte eine E-Mail an: info@jugendrat-inningen.de
URL:https://www.jugendrat-inningen.de/veranstaltungen/halloweenhuette-2/
CATEGORIES:Kinder/Jugendliche
ATTACH;FMTTYPE=image/jpeg:https://www.jugendrat-inningen.de/wp-content/uploads/2025/09/1eb6515a-4630-49dd-82cc-c6cf9d28a205.jpg
END:VEVENT
BEGIN:VEVENT
DTSTART;VALUE=DATE:20251011
DTEND;VALUE=DATE:20251012
DTSTAMP:20260421T115215
CREATED:20250926T120132Z
LAST-MODIFIED:20250926T120201Z
UID:5579-1760140800-1760227199@www.jugendrat-inningen.de
SUMMARY:Familienausflug auf den Bauernhof
DESCRIPTION:Endlich ist es so weit. Der Ausflug auf den Bauernhof steht an. \nAnmeldungen bitte unter: https://forms.office.com/pages/responsepage.aspx?id=4ugBw-YBaE6dkDKqNnpp-CC8NkOR82ZGmdc9xGatbxpURU9KREQzM1lNU1lVN1BEMDJLTkYyVUIwUi4u&route=shorturl
URL:https://www.jugendrat-inningen.de/veranstaltungen/familienausflug-auf-den-bauernhof/
CATEGORIES:Familie,Kinder/Jugendliche
ATTACH;FMTTYPE=image/jpeg:https://www.jugendrat-inningen.de/wp-content/uploads/2025/09/8ab44249-aadf-4094-bcf2-88576961859b.jpg
END:VEVENT
BEGIN:VEVENT
DTSTART;VALUE=DATE:20251008
DTEND;VALUE=DATE:20251009
DTSTAMP:20260421T115215
CREATED:20250928T181711Z
LAST-MODIFIED:20250928T182040Z
UID:5583-1759881600-1759967999@www.jugendrat-inningen.de
SUMMARY:Smartphone\, zocken\, online sein?
DESCRIPTION:Voranmeldung Infoabend für Eltern am 08.10.2025 von 18:00 bis 19:30 Uhr. \nhttps://forms.office.com/pages/responsepage.aspx?id=4ugBw-YBaE6dkDKqNnpp-CsOpN3KuPFFoPaq-bRBqxxUOU9NM1VMWFBEMVFZR0RLVTNVS1FSMFFQRC4u&origin=lprLink&route=shorturl
URL:https://www.jugendrat-inningen.de/veranstaltungen/smartphone-zocken-online-sein/
CATEGORIES:Erwachsene,Familie,Kinder/Jugendliche
ATTACH;FMTTYPE=image/jpeg:https://www.jugendrat-inningen.de/wp-content/uploads/2025/09/2e262758-b24d-4411-aa6e-839a4ffb7c70.jpg
END:VEVENT
BEGIN:VEVENT
DTSTART;VALUE=DATE:20250804
DTEND;VALUE=DATE:20250811
DTSTAMP:20260421T115215
CREATED:20250203T094018Z
LAST-MODIFIED:20250207T093556Z
UID:5443-1754265600-1754870399@www.jugendrat-inningen.de
SUMMARY:Abenteuercamp 2025 - Rücklenmühle Zusmarshausen
DESCRIPTION:Hinweis: Für diesen Inhalt ist JavaScript erforderlich.
URL:https://www.jugendrat-inningen.de/veranstaltungen/abenteuercamp-2025-ruecklenmuehle-zusmarshausen/
CATEGORIES:Kinder/Jugendliche
ATTACH;FMTTYPE=image/jpeg:https://www.jugendrat-inningen.de/wp-content/uploads/2025/02/WhatsApp-Image-2025-01-29-at-14.09.02.jpeg
END:VEVENT
BEGIN:VEVENT
DTSTART;VALUE=DATE:20241214
DTEND;VALUE=DATE:20241215
DTSTAMP:20260421T115215
CREATED:20241117T094017Z
LAST-MODIFIED:20241117T094146Z
UID:5425-1734134400-1734220799@www.jugendrat-inningen.de
SUMMARY:Adventszauber
DESCRIPTION:Zur Anmeldung
URL:https://www.jugendrat-inningen.de/veranstaltungen/adventszauber/
CATEGORIES:Familie
ATTACH;FMTTYPE=image/jpeg:https://www.jugendrat-inningen.de/wp-content/uploads/2024/11/5af9d6d9-3868-4e7c-a60d-66692e1dea8a.jpeg
END:VEVENT
BEGIN:VEVENT
DTSTART;VALUE=DATE:20241107
DTEND;VALUE=DATE:20241108
DTSTAMP:20260421T115215
CREATED:20241024T160855Z
LAST-MODIFIED:20241024T161131Z
UID:5418-1730937600-1731023999@www.jugendrat-inningen.de
SUMMARY:Martinsumzug
DESCRIPTION:Anmeldung
URL:https://www.jugendrat-inningen.de/veranstaltungen/martinsumzug-2/
CATEGORIES:Familie
ATTACH;FMTTYPE=image/jpeg:https://www.jugendrat-inningen.de/wp-content/uploads/2024/10/ab34cda2-ff98-4276-96d1-aed614c1e5af.jpeg
END:VEVENT
BEGIN:VEVENT
DTSTART;VALUE=DATE:20241025
DTEND;VALUE=DATE:20241028
DTSTAMP:20260421T115215
CREATED:20240901T094857Z
LAST-MODIFIED:20240901T100459Z
UID:5383-1729814400-1730073599@www.jugendrat-inningen.de
SUMMARY:Halloweenhütte 2024
DESCRIPTION:Kurzinformation \nAlter: 11-14 Jahre \nPreis \nNormalpreis: 65€ \nErmäßigt: 60€ \n\n	Hinweis: Für diesen Inhalt ist JavaScript erforderlich.\nOh je. Leider sind alle Plätze bereits vergeben. Falls ein Platz noch frei wird und Sie auf die Warteliste geschrieben werden wollen\, schreiben Sie bitte eine E-Mail an: info@jugendrat-inningen.de
URL:https://www.jugendrat-inningen.de/veranstaltungen/halloweenhuette-2024/
CATEGORIES:Kinder/Jugendliche
ATTACH;FMTTYPE=image/webp:https://www.jugendrat-inningen.de/wp-content/uploads/2024/09/IMG_6266.webp
END:VEVENT
BEGIN:VEVENT
DTSTART;TZID=Europe/Paris:20241014T080000
DTEND;TZID=Europe/Paris:20241014T170000
DTSTAMP:20260421T115215
CREATED:20241014T153843Z
LAST-MODIFIED:20241014T153843Z
UID:5414-1728892800-1728925200@www.jugendrat-inningen.de
SUMMARY:Überprüfung anmeldung
DESCRIPTION:Hinweis: Für diesen Inhalt ist JavaScript erforderlich.
URL:https://www.jugendrat-inningen.de/veranstaltungen/ueberpruefung-anmeldung/
END:VEVENT
BEGIN:VEVENT
DTSTART;VALUE=DATE:20240809
DTEND;VALUE=DATE:20240817
DTSTAMP:20260421T115215
CREATED:20240109T214004Z
LAST-MODIFIED:20240627T153658Z
UID:5181-1723161600-1723852799@www.jugendrat-inningen.de
SUMMARY:Abenteuercamp 2024
DESCRIPTION:Wir sind leider restlos ausgebucht! Vielen Dank für Ihr Interesse!
URL:https://www.jugendrat-inningen.de/veranstaltungen/abenteuercamp-2024/
CATEGORIES:Kinder/Jugendliche
END:VEVENT
BEGIN:VEVENT
DTSTART;TZID=Europe/Paris:20240427T130000
DTEND;TZID=Europe/Paris:20240427T170000
DTSTAMP:20260421T115215
CREATED:20240315T063705Z
LAST-MODIFIED:20240315T063705Z
UID:5297-1714222800-1714237200@www.jugendrat-inningen.de
SUMMARY:Erste Hilfe Kurs bei Kindernotfällen
DESCRIPTION:Hinweis: Für diesen Inhalt ist JavaScript erforderlich.
URL:https://www.jugendrat-inningen.de/veranstaltungen/erste-hilfe-kurs-bei-kindernotfaellen/
CATEGORIES:Erwachsene,Familie,Kinder/Jugendliche
ATTACH;FMTTYPE=image/jpeg:https://www.jugendrat-inningen.de/wp-content/uploads/2024/03/6560f525-fe00-4278-8d01-96fb86e86239.jpeg
END:VEVENT
BEGIN:VEVENT
DTSTART;VALUE=DATE:20240316
DTEND;VALUE=DATE:20240317
DTSTAMP:20260421T115215
CREATED:20240225T223054Z
LAST-MODIFIED:20240225T223054Z
UID:5263-1710547200-1710633599@www.jugendrat-inningen.de
SUMMARY:Müllsammelaktion
DESCRIPTION:Hinweis: Für diesen Inhalt ist JavaScript erforderlich.
URL:https://www.jugendrat-inningen.de/veranstaltungen/muellsammelaktion/
CATEGORIES:Betreuer,Erwachsene,Familie,Kinder/Jugendliche
ATTACH;FMTTYPE=image/jpeg:https://www.jugendrat-inningen.de/wp-content/uploads/2024/02/619f49f3-77ae-4a1e-a324-6e631cf1486f.jpeg
END:VEVENT
BEGIN:VEVENT
DTSTART;VALUE=DATE:20240224
DTEND;VALUE=DATE:20240225
DTSTAMP:20260421T115215
CREATED:20231215T130415Z
LAST-MODIFIED:20231215T130415Z
UID:5159-1708732800-1708819199@www.jugendrat-inningen.de
SUMMARY:Skifahrt 2024
DESCRIPTION:Hinweis: Für diesen Inhalt ist JavaScript erforderlich.
URL:https://www.jugendrat-inningen.de/veranstaltungen/skifahrt-2024/
CATEGORIES:Betreuer,Erwachsene,Familie,Kinder/Jugendliche
END:VEVENT
BEGIN:VEVENT
DTSTART;VALUE=DATE:20240213
DTEND;VALUE=DATE:20240214
DTSTAMP:20260421T115215
CREATED:20240127T122923Z
LAST-MODIFIED:20240127T122923Z
UID:5205-1707782400-1707868799@www.jugendrat-inningen.de
SUMMARY:Krachmacher Umzug
DESCRIPTION:Hinweis: Für diesen Inhalt ist JavaScript erforderlich.
URL:https://www.jugendrat-inningen.de/veranstaltungen/krachmacher-umzug/
CATEGORIES:Erwachsene,Familie,Kinder/Jugendliche
ATTACH;FMTTYPE=image/jpeg:https://www.jugendrat-inningen.de/wp-content/uploads/2024/01/6700fe5e-6897-4090-b66c-78cdbe8506f1.jpeg
END:VEVENT
BEGIN:VEVENT
DTSTART;TZID=Europe/Paris:20240203T090000
DTEND;TZID=Europe/Paris:20240203T170000
DTSTAMP:20260421T115215
CREATED:20240104T221823Z
LAST-MODIFIED:20240104T221823Z
UID:5165-1706950800-1706979600@www.jugendrat-inningen.de
SUMMARY:Erste Hilfe Kurs
DESCRIPTION:Hinweis: Für diesen Inhalt ist JavaScript erforderlich.
URL:https://www.jugendrat-inningen.de/veranstaltungen/erste-hilfe-kurs/
CATEGORIES:Betreuer,Erwachsene,Familie,Kinder/Jugendliche
ATTACH;FMTTYPE=image/jpeg:https://www.jugendrat-inningen.de/wp-content/uploads/2024/01/427f44c3-6a53-41ab-9323-8bc9a4b7ced6.jpeg
END:VEVENT
BEGIN:VEVENT
DTSTART;VALUE=DATE:20231111
DTEND;VALUE=DATE:20231112
DTSTAMP:20260421T115215
CREATED:20231008T182312Z
LAST-MODIFIED:20231008T182312Z
UID:5118-1699660800-1699747199@www.jugendrat-inningen.de
SUMMARY:Martinsumzug
DESCRIPTION:Hinweis: Für diesen Inhalt ist JavaScript erforderlich.
URL:https://www.jugendrat-inningen.de/veranstaltungen/martinsumzug/
CATEGORIES:Familie
ATTACH;FMTTYPE=image/jpeg:https://www.jugendrat-inningen.de/wp-content/uploads/2023/10/f97ea10c-c1e8-4a1f-bff3-d2fdf0412fd4.jpg
END:VEVENT
BEGIN:VEVENT
DTSTART;VALUE=DATE:20231027
DTEND;VALUE=DATE:20231030
DTSTAMP:20260421T115215
CREATED:20230822T213836Z
LAST-MODIFIED:20230822T213836Z
UID:5079-1698364800-1698623999@www.jugendrat-inningen.de
SUMMARY:Halloweenhütte 2023
DESCRIPTION:Hinweis: Für diesen Inhalt ist JavaScript erforderlich.\nOh je. Leider sind alle Plätze bereits vergeben. Falls ein Platz noch frei wird und Sie auf die Warteliste geschrieben werden wollen\, schreiben Sie bitte eine E-Mail an: info@jugendrat-inningen.de \nBitte beachten Sie\, dass auf Grund der geschlechterspezifischen Trennung\, die Anmeldung lediglich eine Buchungsanfrage ist. Bitte warten Sie mit dem Überweisen des Geldes bis Sie eine separate Bestätigungsemail erhalten.
URL:https://www.jugendrat-inningen.de/veranstaltungen/halloweenhuette-2023/
CATEGORIES:Kinder/Jugendliche
ATTACH;FMTTYPE=image/jpeg:https://www.jugendrat-inningen.de/wp-content/uploads/2023/08/b4ef66dc-b49b-47a6-8132-41250ee26d89.jpg
END:VEVENT
BEGIN:VEVENT
DTSTART;VALUE=DATE:20231027
DTEND;VALUE=DATE:20231030
DTSTAMP:20260421T115215
CREATED:20230315T205442Z
LAST-MODIFIED:20230315T205442Z
UID:4913-1698364800-1698623999@www.jugendrat-inningen.de
SUMMARY:Halloweenhütte
DESCRIPTION:Ein Heulen aus weiter Ferne in einer düsteren Nacht… Wind pfeift durch kahle Bäume und der volle Mond wirft ein schummriges Licht auf Dein Gesicht… \nDu fürchtest Dich nicht vor dem Monster unterm Bett oder den Geistern in den dunklen Wäldern hinter der Hoppelmühle? Dann fahr mit uns auf das schaurige Halloweenhüttenwochenende vom Jugendrat Inningen und feier mit uns eine wilde Halloweenparty mit gruseligen Kostümen und dem alljährlichen Limbowettbewerb!
URL:https://www.jugendrat-inningen.de/veranstaltungen/halloweenhuette/
CATEGORIES:Kinder/Jugendliche
ATTACH;FMTTYPE=image/jpeg:https://www.jugendrat-inningen.de/wp-content/uploads/2018/09/halloween.jpeg
END:VEVENT
BEGIN:VEVENT
DTSTART;VALUE=DATE:20231020
DTEND;VALUE=DATE:20231023
DTSTAMP:20260421T115215
CREATED:20230315T205829Z
LAST-MODIFIED:20230315T205829Z
UID:4917-1697760000-1698019199@www.jugendrat-inningen.de
SUMMARY:Familienhütte auf Maria Trost Part ll
DESCRIPTION:Familiengaudi vom Feinsten! Save the date and bring your friends and family!
URL:https://www.jugendrat-inningen.de/veranstaltungen/familienhuette-auf-maria-trost-part-ll/
ATTACH;FMTTYPE=image/jpeg:https://www.jugendrat-inningen.de/wp-content/uploads/2022/03/Maria_Trost_Nesselwang.jpg
END:VEVENT
BEGIN:VEVENT
DTSTART;VALUE=DATE:20231014
DTEND;VALUE=DATE:20231015
DTSTAMP:20260421T115215
CREATED:20230315T210011Z
LAST-MODIFIED:20230315T210011Z
UID:4919-1697241600-1697327999@www.jugendrat-inningen.de
SUMMARY:Bauernhofausflug
DESCRIPTION:Schweine\, Kühe\, Rinder – alles für die Kinder. Möchtest du einen Tracker sehen\, musst du auf „anmelden“ gehen!
URL:https://www.jugendrat-inningen.de/veranstaltungen/bauernhofausflug/
ATTACH;FMTTYPE=image/jpeg:https://www.jugendrat-inningen.de/wp-content/uploads/2019/04/Besuch-im-Kuhstall.jpg
END:VEVENT
BEGIN:VEVENT
DTSTART;VALUE=DATE:20230922
DTEND;VALUE=DATE:20230925
DTSTAMP:20260421T115215
CREATED:20230315T205705Z
LAST-MODIFIED:20230315T205705Z
UID:4915-1695340800-1695599999@www.jugendrat-inningen.de
SUMMARY:Familienhütte auf Maria Trost
DESCRIPTION:Familiengaudi vom Feinsten. Save the Date and bring your friends and family!
URL:https://www.jugendrat-inningen.de/veranstaltungen/familienhuette-auf-maria-trost-2/
CATEGORIES:Familie
ATTACH;FMTTYPE=image/jpeg:https://www.jugendrat-inningen.de/wp-content/uploads/2022/03/Maria_Trost_Nesselwang.jpg
END:VEVENT
BEGIN:VEVENT
DTSTART;VALUE=DATE:20230811
DTEND;VALUE=DATE:20230819
DTSTAMP:20260421T115215
CREATED:20230327T093246Z
LAST-MODIFIED:20230710T203335Z
UID:4923-1691712000-1692403199@www.jugendrat-inningen.de
SUMMARY:Abenteuercamp 2023 - Anmeldeschluss auf 04.08 verlängert
DESCRIPTION:Es sind noch ein paar Restplätze verfügbar! Also noch schnell anmelden!\n	Hinweis: Für diesen Inhalt ist JavaScript erforderlich.\n\n\n    \n\n\n        \n        \n         \n 
URL:https://www.jugendrat-inningen.de/veranstaltungen/abenteuercamp-2023/
CATEGORIES:Kinder/Jugendliche
ATTACH;FMTTYPE=image/jpeg:https://www.jugendrat-inningen.de/wp-content/uploads/2023/03/0BDF48E2-3E9C-43AB-9451-3FB660BE50F3.jpeg
END:VEVENT
BEGIN:VEVENT
DTSTART;VALUE=DATE:20230811
DTEND;VALUE=DATE:20230819
DTSTAMP:20260421T115215
CREATED:20230315T203814Z
LAST-MODIFIED:20230315T203814Z
UID:4908-1691712000-1692403199@www.jugendrat-inningen.de
SUMMARY:Abenteuercamp
DESCRIPTION:„Morgen Mittag gibts Chili von gestern zum Frühstück“ \n– Ein geschätztes Mitglied der Lagerleitung \nWer hat es vermisst? Save the Date – joyn the Zeltlager 2023! \nInfos folgen in Kürze!
URL:https://www.jugendrat-inningen.de/veranstaltungen/abenteuercamp/
CATEGORIES:Kinder/Jugendliche
ATTACH;FMTTYPE=image/jpeg:https://www.jugendrat-inningen.de/wp-content/uploads/2017/02/img_4907.jpg
END:VEVENT
BEGIN:VEVENT
DTSTART;VALUE=DATE:20230722
DTEND;VALUE=DATE:20230723
DTSTAMP:20260421T115215
CREATED:20230608T193110Z
LAST-MODIFIED:20230608T193110Z
UID:4982-1689984000-1690070399@www.jugendrat-inningen.de
SUMMARY:BETREUER Altmühlfahrt
DESCRIPTION:Hinweis: Für diesen Inhalt ist JavaScript erforderlich.
URL:https://www.jugendrat-inningen.de/veranstaltungen/betreuer-altmuehlfahrt/
CATEGORIES:Betreuer
ATTACH;FMTTYPE=image/jpeg:https://www.jugendrat-inningen.de/wp-content/uploads/2023/03/d4574465-222e-4dd2-9db9-410dad96dee8.jpg
END:VEVENT
BEGIN:VEVENT
DTSTART;VALUE=DATE:20230707
DTEND;VALUE=DATE:20230710
DTSTAMP:20260421T115215
CREATED:20230315T201953Z
LAST-MODIFIED:20230315T202808Z
UID:4901-1688688000-1688947199@www.jugendrat-inningen.de
SUMMARY:Familienzeltlager in Zusmarshausen
DESCRIPTION:Auch dieses Jahr gibt es ein Wochenende auf dem Zeltplatz in Zusmarshausen für Groß und Klein. Gönnt Euch eine entspannte Zeit ohne Verkehrslärm und Alltagsstress dafür mit viel geruhsamem Beisammensein\, spannenden Spielen und muggeligen Abenden am Lagerfeuer mit Eurer und vielen anderen lieben Familien.
URL:https://www.jugendrat-inningen.de/veranstaltungen/familienzeltlager-in-zusmarshausen/
CATEGORIES:Erwachsene,Familie,Kinder/Jugendliche
ATTACH;FMTTYPE=image/png:https://www.jugendrat-inningen.de/wp-content/uploads/2023/03/R.png
END:VEVENT
BEGIN:VEVENT
DTSTART;VALUE=DATE:20230421
DTEND;VALUE=DATE:20230424
DTSTAMP:20260421T115215
CREATED:20230202T220622Z
LAST-MODIFIED:20230316T001709Z
UID:4855-1682035200-1682294399@www.jugendrat-inningen.de
SUMMARY:Betreuerwochenende ohne Special Guest 2023
DESCRIPTION:Mehr gibt es nicht zu sagen. Wer nicht kommt ist selber Schuld. \nACHTUNG: Interne Veranstaltung! Nur für Betreuer des Jugendrat Inningen e.V. \nP.S. Garantiert ohne Special Guest. \n\n	Hinweis: Für diesen Inhalt ist JavaScript erforderlich.
URL:https://www.jugendrat-inningen.de/veranstaltungen/betreuerwochenende-2023/
CATEGORIES:Betreuer
END:VEVENT
BEGIN:VEVENT
DTSTART;VALUE=DATE:20230225
DTEND;VALUE=DATE:20230226
DTSTAMP:20260421T115215
CREATED:20230208T083604Z
LAST-MODIFIED:20230208T083604Z
UID:4876-1677283200-1677369599@www.jugendrat-inningen.de
SUMMARY:Skigaudi mit dem Jugendrat
DESCRIPTION:
URL:https://www.jugendrat-inningen.de/veranstaltungen/skigaudi-mit-dem-jugendrat/
CATEGORIES:Betreuer,Erwachsene,Familie,Kinder/Jugendliche
ATTACH;FMTTYPE=image/jpeg:https://www.jugendrat-inningen.de/wp-content/uploads/2023/02/8C7B12EF-73B8-4DFB-95DE-388F56C5D22A.jpeg
END:VEVENT
BEGIN:VEVENT
DTSTART;VALUE=DATE:20230218
DTEND;VALUE=DATE:20230219
DTSTAMP:20260421T115215
CREATED:20230207T220845Z
LAST-MODIFIED:20230207T220947Z
UID:4871-1676678400-1676764799@www.jugendrat-inningen.de
SUMMARY:Fasching in Inningen
DESCRIPTION:
URL:https://www.jugendrat-inningen.de/veranstaltungen/fasching-in-inningen/
CATEGORIES:Erwachsene
ATTACH;FMTTYPE=application/pdf:https://www.jugendrat-inningen.de/wp-content/uploads/2023/02/Faschingsball_23-A4-1.pdf
END:VEVENT
BEGIN:VEVENT
DTSTART;TZID=Europe/Paris:20221104T180000
DTEND;TZID=Europe/Paris:20221106T120000
DTSTAMP:20260421T115215
CREATED:20220930T133409Z
LAST-MODIFIED:20221007T130856Z
UID:4825-1667584800-1667736000@www.jugendrat-inningen.de
SUMMARY:Halloweenhütte 2022 (Ausgebucht)
DESCRIPTION:Vielen Dank für Eure zahlreichen Anmeldungen und Eurem Interesse! Wir sind jetzt schon komplett ausgebucht.
URL:https://www.jugendrat-inningen.de/veranstaltungen/halloweenhuette-2022/
CATEGORIES:Kinder/Jugendliche
ATTACH;FMTTYPE=application/pdf:https://www.jugendrat-inningen.de/wp-content/uploads/2022/09/Flyer-Halloeweenhütte-20223568-1.pdf
END:VEVENT
BEGIN:VEVENT
DTSTART;TZID=Europe/Paris:20220812T080000
DTEND;TZID=Europe/Paris:20220819T170000
DTSTAMP:20260421T115215
CREATED:20220324T192838Z
LAST-MODIFIED:20220930T133952Z
UID:4724-1660291200-1660928400@www.jugendrat-inningen.de
SUMMARY:Abenteuercamp 2022
DESCRIPTION:Das Abenteuercamp findet vom 12.08.-19.08.2022 am wunderschönen Walchensee statt. Du bist zwischen 8 und 13 Jahren alt und hast Lust in den Ferien was ganz besonderes zu machen? Dann\nist das Abenteuercamp genau das richtige für dich…7 Tage lang Spiel\, Spaß und Action pur\, mit sportlichen und kreativen Workshops\, Wald- und Geländespielen\, Bastel- und Bauaktionen\, Lagerfeuerprogramm und cooler Abschlussparty.
URL:https://www.jugendrat-inningen.de/veranstaltungen/abenteuercamp-2022/
CATEGORIES:Kinder/Jugendliche
ATTACH;FMTTYPE=image/jpeg:https://www.jugendrat-inningen.de/wp-content/uploads/2022/03/fylerneu.jpg
END:VEVENT
BEGIN:VEVENT
DTSTART;VALUE=DATE:20220723
DTEND;VALUE=DATE:20220724
DTSTAMP:20260421T115215
CREATED:20220324T195834Z
LAST-MODIFIED:20220324T200007Z
UID:4740-1658534400-1658620799@www.jugendrat-inningen.de
SUMMARY:Piratenfahrt
DESCRIPTION:Segel setzen\, Leinen los….wir gehen auf Piratenfahrt. \nAuf dem großen Alpsee in Immenstadt möchten wir uns mit echten Piraten auf dem Segelschiff „Santa Maria Loreto“ gemeinsam auf die Suche nach dem verschollenen Schatz machen. \nDavor und danach habt ihr Zeit\, den Alpsee und die Umgebung selbständig zu erkunden. \nNeben dem Piratenspielplatz mit Wasserspielplatz könnt ihr Minigolf spielen\, hoch hinaus im Klettergarten\, ein Eis in der Eisdiele essen und am Alpsee schwimmen und wandern gehen. \nDie Piratenfahrt dauert 60 Minuten und kostet 7\,50€ für Vereinsmitglieder\, 8\,50€ für Nichtmitglieder \nInfos und Vorab-Anmeldung unter: andrea.manzeneder@jugendrat-inningen.de
URL:https://www.jugendrat-inningen.de/veranstaltungen/piratenfahrt/
CATEGORIES:Kinder/Jugendliche
ATTACH;FMTTYPE=image/jpeg:https://www.jugendrat-inningen.de/wp-content/uploads/2022/03/piraten.jpg
END:VEVENT
END:VCALENDAR