BEGIN:VCALENDAR
VERSION:2.0
PRODID:-// - ECPv6.0.8//NONSGML v1.0//EN
CALSCALE:GREGORIAN
METHOD:PUBLISH
X-ORIGINAL-URL:https://www.jugendrat-inningen.de
X-WR-CALDESC:Veranstaltungen für 
REFRESH-INTERVAL;VALUE=DURATION:PT1H
X-Robots-Tag:noindex
X-PUBLISHED-TTL:PT1H
BEGIN:VTIMEZONE
TZID:Europe/Paris
BEGIN:DAYLIGHT
TZOFFSETFROM:+0100
TZOFFSETTO:+0200
TZNAME:CEST
DTSTART:20220327T010000
END:DAYLIGHT
BEGIN:STANDARD
TZOFFSETFROM:+0200
TZOFFSETTO:+0100
TZNAME:CET
DTSTART:20221030T010000
END:STANDARD
END:VTIMEZONE
BEGIN:VEVENT
DTSTART;TZID=Europe/Paris:20220329T080000
DTEND;TZID=Europe/Paris:20220329T170000
DTSTAMP:20260425T153541
CREATED:20220324T193801Z
LAST-MODIFIED:20220324T195142Z
UID:4729-1648540800-1648573200@www.jugendrat-inningen.de
SUMMARY:Krabbelgruppen der kleinen Windelwichtel jeden Dienstag und Donnerstag
DESCRIPTION:Dienstag: 9-10 Uhr Krabbelgruppe für Kinder Geburtsmonat April 2020 bis September 2020 \nDienstag: 10:15 – 11:15 Krabbelgruppe für Kinder Geburtsmonat  März 2021 bis Dezember 2021 \nDonnerstag: 10-11 Uhr Krabbelgruppe für Kinder Geburtsmonat Januar 2020 bis August 2021 \nEine Gruppe für Babys ab Geburtsmonat Januar 2022 ist in Planung. \nMit altersgerechten Spiel- und Bewegungsangeboten\, Liedern und Fingerspielen wollen wir gemeinsam die Welt entdecken\, spielen und uns unter Eltern austauschen. \nWir treffen uns im Spielzimmer im alten Inninger Rathaus\, Hohenstaufenstr. 1 in Inningen \nInfos und Anmeldung unter: info@jugendrat-inningen.de
URL:https://www.jugendrat-inningen.de/veranstaltungen/krabbelgruppen-der-kleinen-windelwichtel/
CATEGORIES:Kinder/Jugendliche
ATTACH;FMTTYPE=image/jpeg:https://www.jugendrat-inningen.de/wp-content/uploads/2018/12/draussen-eltern-erholung-1682497.jpg
END:VEVENT
END:VCALENDAR